Package: MOSim Version: 2.0.0 Command: rm -rf MOSim.buildbin-libdir && mkdir MOSim.buildbin-libdir && /Users/biocbuild/BBS/utils/build-universal.sh MOSim_2.0.0.tar.gz /Library/Frameworks/R.framework/Resources/bin/R MOSim.buildbin-libdir StartedAt: 2024-10-18 19:33:11 -0400 (Fri, 18 Oct 2024) EndedAt: 2024-10-18 19:34:04 -0400 (Fri, 18 Oct 2024) EllapsedTime: 53.6 seconds RetCode: 0 Status: OK PackageFile: MOSim_2.0.0.tgz PackageFileSize: 6.623 MiB