Package: MOSim Version: 2.0.0 Command: /Library/Frameworks/R.framework/Resources/bin/R CMD check --install=check:MOSim.install-out.txt --library=/Library/Frameworks/R.framework/Resources/library --no-vignettes --timings MOSim_2.0.0.tar.gz StartedAt: 2024-10-18 04:44:16 -0400 (Fri, 18 Oct 2024) EndedAt: 2024-10-18 04:59:41 -0400 (Fri, 18 Oct 2024) EllapsedTime: 924.5 seconds RetCode: 0 Status: WARNINGS CheckDir: MOSim.Rcheck Warnings: 1