Package: MOSim Version: 2.0.0 Command: /home/biocbuild/R/R-beta-2024-04-15_r86425/bin/R CMD INSTALL MOSim StartedAt: 2024-05-08 21:01:01 -0000 (Wed, 08 May 2024) EndedAt: 2024-05-08 21:02:03 -0000 (Wed, 08 May 2024) EllapsedTime: 62.0 seconds RetCode: 0 Status: OK