Package: MOSim Version: 2.0.0 Command: rm -rf MOSim.buildbin-libdir && mkdir MOSim.buildbin-libdir && /Users/biocbuild/BBS/utils/build-universal.sh MOSim_2.0.0.tar.gz /Library/Frameworks/R.framework/Resources/bin/R MOSim.buildbin-libdir StartedAt: 2024-05-27 01:47:57 -0400 (Mon, 27 May 2024) EndedAt: 2024-05-27 01:48:59 -0400 (Mon, 27 May 2024) EllapsedTime: 62.1 seconds RetCode: 0 Status: OK PackageFile: MOSim_2.0.0.tgz PackageFileSize: 6.629 MiB