Package: MOSim Version: 2.0.0 Command: /Library/Frameworks/R.framework/Resources/bin/R CMD INSTALL MOSim StartedAt: 2024-10-16 16:38:34 -0400 (Wed, 16 Oct 2024) EndedAt: 2024-10-16 16:40:19 -0400 (Wed, 16 Oct 2024) EllapsedTime: 104.7 seconds RetCode: 0 Status: OK