Package: MOSim Version: 2.0.0 Command: rm -rf MOSim.buildbin-libdir && mkdir MOSim.buildbin-libdir && E:\biocbuild\bbs-3.19-bioc\R\bin\R.exe CMD INSTALL --build --library=MOSim.buildbin-libdir MOSim_2.0.0.tar.gz StartedAt: 2024-10-17 08:10:44 -0400 (Thu, 17 Oct 2024) EndedAt: 2024-10-17 08:11:56 -0400 (Thu, 17 Oct 2024) EllapsedTime: 73.0 seconds RetCode: 0 Status: OK PackageFile: MOSim_2.0.0.zip PackageFileSize: 6.936 MiB