Package: MPFE Version: 1.40.0 Command: /Library/Frameworks/R.framework/Resources/bin/R CMD build --keep-empty-dirs --no-resave-data MPFE StartedAt: 2024-10-17 05:05:56 -0400 (Thu, 17 Oct 2024) EndedAt: 2024-10-17 05:06:05 -0400 (Thu, 17 Oct 2024) EllapsedTime: 9.2 seconds RetCode: 0 Status: OK PackageFile: MPFE_1.40.0.tar.gz PackageFileSize: 191.3 KiB