Package: MPFE Version: 1.40.0 Command: /Library/Frameworks/R.framework/Resources/bin/R CMD check --install=check:MPFE.install-out.txt --library=/Library/Frameworks/R.framework/Resources/library --no-vignettes --timings MPFE_1.40.0.tar.gz StartedAt: 2024-10-18 04:58:10 -0400 (Fri, 18 Oct 2024) EndedAt: 2024-10-18 04:58:38 -0400 (Fri, 18 Oct 2024) EllapsedTime: 28.0 seconds RetCode: 0 Status: OK CheckDir: MPFE.Rcheck Warnings: 0