Package: MPFE Version: 1.40.0 Command: rm -rf MPFE.buildbin-libdir && mkdir MPFE.buildbin-libdir && /Users/biocbuild/BBS/utils/build-universal.sh MPFE_1.40.0.tar.gz /Library/Frameworks/R.framework/Resources/bin/R MPFE.buildbin-libdir StartedAt: 2024-06-11 12:10:14 -0400 (Tue, 11 Jun 2024) EndedAt: 2024-06-11 12:10:19 -0400 (Tue, 11 Jun 2024) EllapsedTime: 5.6 seconds RetCode: 0 Status: OK PackageFile: MPFE_1.40.0.tgz PackageFileSize: 216.3 KiB