Package: MPFE Version: 1.40.0 Command: /home/biocbuild/R/R-beta-2024-04-15_r86425/bin/R CMD build --keep-empty-dirs --no-resave-data MPFE StartedAt: 2024-05-09 01:53:35 -0000 (Thu, 09 May 2024) EndedAt: 2024-05-09 01:53:40 -0000 (Thu, 09 May 2024) EllapsedTime: 5.0 seconds RetCode: 0 Status: OK PackageFile: MPFE_1.40.0.tar.gz PackageFileSize: 183 KiB