Package: MPFE Version: 1.40.0 Command: /Library/Frameworks/R.framework/Resources/bin/R CMD build --keep-empty-dirs --no-resave-data MPFE StartedAt: 2024-10-16 21:16:09 -0400 (Wed, 16 Oct 2024) EndedAt: 2024-10-16 21:16:25 -0400 (Wed, 16 Oct 2024) EllapsedTime: 16.2 seconds RetCode: 0 Status: OK PackageFile: MPFE_1.40.0.tar.gz PackageFileSize: 191.3 KiB