Package: MPFE Version: 1.40.0 Command: /Library/Frameworks/R.framework/Resources/bin/R CMD check --install=check:MPFE.install-out.txt --library=/Library/Frameworks/R.framework/Resources/library --no-vignettes --timings MPFE_1.40.0.tar.gz StartedAt: 2024-10-17 09:24:03 -0400 (Thu, 17 Oct 2024) EndedAt: 2024-10-17 09:25:02 -0400 (Thu, 17 Oct 2024) EllapsedTime: 59.7 seconds RetCode: 0 Status: OK CheckDir: MPFE.Rcheck Warnings: 0