Package: MPFE Version: 1.40.0 Command: /Library/Frameworks/R.framework/Resources/bin/R CMD INSTALL MPFE StartedAt: 2024-10-16 15:06:13 -0400 (Wed, 16 Oct 2024) EndedAt: 2024-10-16 15:06:32 -0400 (Wed, 16 Oct 2024) EllapsedTime: 18.2 seconds RetCode: 0 Status: OK