Package: MPFE Version: 1.40.0 Command: rm -rf MPFE.buildbin-libdir && mkdir MPFE.buildbin-libdir && E:\biocbuild\bbs-3.19-bioc\R\bin\R.exe CMD INSTALL --build --library=MPFE.buildbin-libdir MPFE_1.40.0.tar.gz StartedAt: 2024-10-17 08:11:20 -0400 (Thu, 17 Oct 2024) EndedAt: 2024-10-17 08:11:24 -0400 (Thu, 17 Oct 2024) EllapsedTime: 4.7 seconds RetCode: 0 Status: OK PackageFile: MPFE_1.40.0.zip PackageFileSize: 132.3 KiB