Package: MPFE Version: 1.40.0 Command: chmod a+r MPFE -R && E:\biocbuild\bbs-3.19-bioc\R\bin\R.exe CMD build --keep-empty-dirs --no-resave-data MPFE StartedAt: 2024-10-16 20:29:26 -0400 (Wed, 16 Oct 2024) EndedAt: 2024-10-16 20:29:34 -0400 (Wed, 16 Oct 2024) EllapsedTime: 7.9 seconds RetCode: 0 Status: OK PackageFile: MPFE_1.40.0.tar.gz PackageFileSize: 103.5 KiB