Package: MSstatsLOBD Version: 1.12.0 Command: /Library/Frameworks/R.framework/Resources/bin/R CMD INSTALL MSstatsLOBD StartedAt: 2024-10-16 16:06:04 -0400 (Wed, 16 Oct 2024) EndedAt: 2024-10-16 16:06:10 -0400 (Wed, 16 Oct 2024) EllapsedTime: 5.8 seconds RetCode: 0 Status: OK