Package: MSstatsPTM Version: 2.6.0 Command: F:\biocbuild\bbs-3.19-bioc\R\bin\R.exe CMD INSTALL MSstatsPTM StartedAt: 2024-06-26 16:38:43 -0400 (Wed, 26 Jun 2024) EndedAt: 2024-06-26 16:39:31 -0400 (Wed, 26 Jun 2024) EllapsedTime: 48.0 seconds RetCode: 0 Status: OK