Package: MSstatsQCgui Version: 1.24.0 Maintainer: Eralp Dogu MaintainerEmail: eralp.dogu at gmail.com git_url: https://git.bioconductor.org/packages/MSstatsQCgui git_branch: RELEASE_3_19 git_last_commit: c187a0a git_last_commit_date: 2024-04-30 11:06:29 -0400 (Tue, 30 Apr 2024)