Package: MSstatsQCgui Version: 1.24.0 Command: rm -rf MSstatsQCgui.buildbin-libdir && mkdir MSstatsQCgui.buildbin-libdir && /Users/biocbuild/BBS/utils/build-universal.sh MSstatsQCgui_1.24.0.tar.gz /Library/Frameworks/R.framework/Resources/bin/R MSstatsQCgui.buildbin-libdir StartedAt: 2024-06-11 12:13:45 -0400 (Tue, 11 Jun 2024) EndedAt: 2024-06-11 12:14:57 -0400 (Tue, 11 Jun 2024) EllapsedTime: 71.9 seconds RetCode: 0 Status: OK PackageFile: MSstatsQCgui_1.24.0.tgz PackageFileSize: 85.41 KiB