Package: MSstatsQCgui Version: 1.24.0 Command: /home/biocbuild/R/R-beta-2024-04-15_r86425/bin/R CMD build --keep-empty-dirs --no-resave-data MSstatsQCgui StartedAt: 2024-05-09 01:59:57 -0000 (Thu, 09 May 2024) EndedAt: 2024-05-09 02:00:47 -0000 (Thu, 09 May 2024) EllapsedTime: 50.1 seconds RetCode: 0 Status: OK PackageFile: MSstatsQCgui_1.24.0.tar.gz PackageFileSize: 75.95 KiB