Package: MSstatsQCgui Version: 1.24.0 Command: /home/biocbuild/R/R-beta-2024-04-15_r86425/bin/R CMD check --install=check:MSstatsQCgui.install-out.txt --library=/home/biocbuild/R/R-beta-2024-04-15_r86425/site-library --no-vignettes --timings MSstatsQCgui_1.24.0.tar.gz StartedAt: 2024-05-09 09:50:50 -0000 (Thu, 09 May 2024) EndedAt: 2024-05-09 09:55:59 -0000 (Thu, 09 May 2024) EllapsedTime: 308.5 seconds RetCode: 0 Status: OK CheckDir: MSstatsQCgui.Rcheck Warnings: 0