Package: MSstatsQCgui Version: 1.24.0 Command: /Library/Frameworks/R.framework/Resources/bin/R CMD build --keep-empty-dirs --no-resave-data MSstatsQCgui StartedAt: 2024-10-16 21:24:38 -0400 (Wed, 16 Oct 2024) EndedAt: 2024-10-16 21:26:41 -0400 (Wed, 16 Oct 2024) EllapsedTime: 122.5 seconds RetCode: 0 Status: OK PackageFile: MSstatsQCgui_1.24.0.tar.gz PackageFileSize: 75.36 KiB