Package: MSstatsQCgui Version: 1.24.0 Command: /Library/Frameworks/R.framework/Resources/bin/R CMD INSTALL MSstatsQCgui StartedAt: 2024-10-16 16:12:00 -0400 (Wed, 16 Oct 2024) EndedAt: 2024-10-16 16:13:18 -0400 (Wed, 16 Oct 2024) EllapsedTime: 78.5 seconds RetCode: 0 Status: OK