Package: MSstatsQCgui Version: 1.24.0 Command: /home/biocbuild/bbs-3.19-bioc/R/bin/R CMD check --install=check:MSstatsQCgui.install-out.txt --library=/home/biocbuild/bbs-3.19-bioc/R/site-library --timings MSstatsQCgui_1.24.0.tar.gz StartedAt: 2024-10-17 02:52:20 -0400 (Thu, 17 Oct 2024) EndedAt: 2024-10-17 02:56:23 -0400 (Thu, 17 Oct 2024) EllapsedTime: 243.5 seconds RetCode: 0 Status: OK CheckDir: MSstatsQCgui.Rcheck Warnings: 0