Package: MSstatsQCgui Version: 1.24.0 Command: chmod a+r MSstatsQCgui -R && F:\biocbuild\bbs-3.19-bioc\R\bin\R.exe CMD build --keep-empty-dirs --no-resave-data MSstatsQCgui StartedAt: 2024-06-26 20:21:11 -0400 (Wed, 26 Jun 2024) EndedAt: 2024-06-26 20:21:59 -0400 (Wed, 26 Jun 2024) EllapsedTime: 48.0 seconds RetCode: 0 Status: OK PackageFile: MSstatsQCgui_1.24.0.tar.gz PackageFileSize: 75.39 KiB