Package: MassArray Version: 1.56.0 Command: rm -rf MassArray.buildbin-libdir && mkdir MassArray.buildbin-libdir && /Users/biocbuild/BBS/utils/build-universal.sh MassArray_1.56.0.tar.gz /Library/Frameworks/R.framework/Resources/bin/R MassArray.buildbin-libdir StartedAt: 2024-10-18 19:14:48 -0400 (Fri, 18 Oct 2024) EndedAt: 2024-10-18 19:14:58 -0400 (Fri, 18 Oct 2024) EllapsedTime: 9.1 seconds RetCode: 0 Status: OK PackageFile: MassArray_1.56.0.tgz PackageFileSize: 646.7 KiB