Package: MassArray Version: 1.56.0 Command: /Library/Frameworks/R.framework/Resources/bin/R CMD check --install=check:MassArray.install-out.txt --library=/Library/Frameworks/R.framework/Resources/library --no-vignettes --timings MassArray_1.56.0.tar.gz StartedAt: 2024-10-18 02:41:50 -0400 (Fri, 18 Oct 2024) EndedAt: 2024-10-18 02:42:38 -0400 (Fri, 18 Oct 2024) EllapsedTime: 47.9 seconds RetCode: 0 Status: OK CheckDir: MassArray.Rcheck Warnings: 0