Package: MassArray Version: 1.56.0 Command: /Library/Frameworks/R.framework/Resources/bin/R CMD INSTALL MassArray StartedAt: 2024-10-16 15:06:08 -0400 (Wed, 16 Oct 2024) EndedAt: 2024-10-16 15:06:23 -0400 (Wed, 16 Oct 2024) EllapsedTime: 15.7 seconds RetCode: 0 Status: OK