Package: MassArray Version: 1.56.0 Command: chmod a+r MassArray -R && E:\biocbuild\bbs-3.19-bioc\R\bin\R.exe CMD build --keep-empty-dirs --no-resave-data MassArray StartedAt: 2024-10-16 20:04:35 -0400 (Wed, 16 Oct 2024) EndedAt: 2024-10-16 20:05:19 -0400 (Wed, 16 Oct 2024) EllapsedTime: 44.5 seconds RetCode: 0 Status: OK PackageFile: MassArray_1.56.0.tar.gz PackageFileSize: 276 KiB