Package: MassSpecWavelet Version: 1.70.0 Command: rm -rf MassSpecWavelet.buildbin-libdir && mkdir MassSpecWavelet.buildbin-libdir && /Users/biocbuild/BBS/utils/build-universal.sh MassSpecWavelet_1.70.0.tar.gz /Library/Frameworks/R.framework/Resources/bin/R MassSpecWavelet.buildbin-libdir StartedAt: 2024-06-11 11:54:20 -0400 (Tue, 11 Jun 2024) EndedAt: 2024-06-11 11:54:32 -0400 (Tue, 11 Jun 2024) EllapsedTime: 12.3 seconds RetCode: 0 Status: OK PackageFile: MassSpecWavelet_1.70.0.tgz PackageFileSize: 2.167 MiB