Package: MassSpecWavelet Version: 1.70.0 Command: /Library/Frameworks/R.framework/Resources/bin/R CMD build --keep-empty-dirs --no-resave-data MassSpecWavelet StartedAt: 2024-06-09 23:48:59 -0400 (Sun, 09 Jun 2024) EndedAt: 2024-06-09 23:50:26 -0400 (Sun, 09 Jun 2024) EllapsedTime: 86.6 seconds RetCode: 0 Status: OK PackageFile: MassSpecWavelet_1.70.0.tar.gz PackageFileSize: 2.084 MiB