Package: MassSpecWavelet Version: 1.70.0 Command: /Library/Frameworks/R.framework/Resources/bin/R CMD check --install=check:MassSpecWavelet.install-out.txt --library=/Library/Frameworks/R.framework/Resources/library --no-vignettes --timings MassSpecWavelet_1.70.0.tar.gz StartedAt: 2024-06-10 20:40:13 -0400 (Mon, 10 Jun 2024) EndedAt: 2024-06-10 20:41:24 -0400 (Mon, 10 Jun 2024) EllapsedTime: 71.2 seconds RetCode: 0 Status: OK CheckDir: MassSpecWavelet.Rcheck Warnings: 0