Package: MassSpecWavelet Version: 1.70.0 Command: /home/biocbuild/R/R-beta-2024-04-15_r86425/bin/R CMD build --keep-empty-dirs --no-resave-data MassSpecWavelet StartedAt: 2024-05-09 01:22:04 -0000 (Thu, 09 May 2024) EndedAt: 2024-05-09 01:23:17 -0000 (Thu, 09 May 2024) EllapsedTime: 73.1 seconds RetCode: 0 Status: OK PackageFile: MassSpecWavelet_1.70.0.tar.gz PackageFileSize: 1.305 MiB