Package: MassSpecWavelet Version: 1.70.0 Command: rm -rf MassSpecWavelet.buildbin-libdir && mkdir MassSpecWavelet.buildbin-libdir && /Users/biocbuild/BBS/utils/build-universal.sh MassSpecWavelet_1.70.0.tar.gz /Library/Frameworks/R.framework/Resources/bin/R MassSpecWavelet.buildbin-libdir StartedAt: 2024-06-10 00:25:21 -0400 (Mon, 10 Jun 2024) EndedAt: 2024-06-10 00:25:29 -0400 (Mon, 10 Jun 2024) EllapsedTime: 8.1 seconds RetCode: 0 Status: OK PackageFile: MassSpecWavelet_1.70.0.tgz PackageFileSize: 2.16 MiB