Package: MassSpecWavelet Version: 1.70.0 Command: /Library/Frameworks/R.framework/Resources/bin/R CMD check --install=check:MassSpecWavelet.install-out.txt --library=/Library/Frameworks/R.framework/Resources/library --no-vignettes --timings MassSpecWavelet_1.70.0.tar.gz StartedAt: 2024-06-09 21:17:36 -0400 (Sun, 09 Jun 2024) EndedAt: 2024-06-09 21:18:19 -0400 (Sun, 09 Jun 2024) EllapsedTime: 43.0 seconds RetCode: 0 Status: OK CheckDir: MassSpecWavelet.Rcheck Warnings: 0