Package: MassSpecWavelet Version: 1.70.0 Command: chmod a+r MassSpecWavelet -R && F:\biocbuild\bbs-3.19-bioc\R\bin\R.exe CMD build --keep-empty-dirs --no-resave-data MassSpecWavelet StartedAt: 2024-06-26 19:50:06 -0400 (Wed, 26 Jun 2024) EndedAt: 2024-06-26 19:51:22 -0400 (Wed, 26 Jun 2024) EllapsedTime: 75.5 seconds RetCode: 0 Status: OK PackageFile: MassSpecWavelet_1.70.0.tar.gz PackageFileSize: 1.08 MiB