Package: MassSpecWavelet Version: 1.70.0 Command: chmod a+r MassSpecWavelet -R && E:\biocbuild\bbs-3.19-bioc\R\bin\R.exe CMD build --keep-empty-dirs --no-resave-data MassSpecWavelet StartedAt: 2024-10-16 20:04:55 -0400 (Wed, 16 Oct 2024) EndedAt: 2024-10-16 20:06:10 -0400 (Wed, 16 Oct 2024) EllapsedTime: 74.5 seconds RetCode: 0 Status: OK PackageFile: MassSpecWavelet_1.70.0.tar.gz PackageFileSize: 1.08 MiB