Package: MesKit Version: 1.14.0 Command: /Library/Frameworks/R.framework/Resources/bin/R CMD build --keep-empty-dirs --no-resave-data MesKit StartedAt: 2024-10-17 03:45:32 -0400 (Thu, 17 Oct 2024) EndedAt: 2024-10-17 03:47:14 -0400 (Thu, 17 Oct 2024) EllapsedTime: 101.4 seconds RetCode: 0 Status: OK PackageFile: MesKit_1.14.0.tar.gz PackageFileSize: 4.006 MiB