Package: MesKit Version: 1.14.0 Command: /Library/Frameworks/R.framework/Resources/bin/R CMD build --keep-empty-dirs --no-resave-data MesKit StartedAt: 2024-06-09 23:59:11 -0400 (Sun, 09 Jun 2024) EndedAt: 2024-06-10 00:01:22 -0400 (Mon, 10 Jun 2024) EllapsedTime: 130.9 seconds RetCode: 0 Status: OK PackageFile: MesKit_1.14.0.tar.gz PackageFileSize: 4.005 MiB