Package: MesKit Version: 1.14.0 Command: /Library/Frameworks/R.framework/Resources/bin/R CMD build --keep-empty-dirs --no-resave-data MesKit StartedAt: 2024-10-16 20:38:05 -0400 (Wed, 16 Oct 2024) EndedAt: 2024-10-16 20:42:02 -0400 (Wed, 16 Oct 2024) EllapsedTime: 237.4 seconds RetCode: 0 Status: OK PackageFile: MesKit_1.14.0.tar.gz PackageFileSize: 3.997 MiB