Package: MesKit Version: 1.14.0 Command: rm -rf MesKit.buildbin-libdir && mkdir MesKit.buildbin-libdir && F:\biocbuild\bbs-3.19-bioc\R\bin\R.exe CMD INSTALL --build --library=MesKit.buildbin-libdir MesKit_1.14.0.tar.gz StartedAt: 2024-06-27 08:28:19 -0400 (Thu, 27 Jun 2024) EndedAt: 2024-06-27 08:28:59 -0400 (Thu, 27 Jun 2024) EllapsedTime: 40.2 seconds RetCode: 0 Status: OK PackageFile: MesKit_1.14.0.zip PackageFileSize: 2.653 MiB