Package: MesKit Version: 1.14.0 Command: rm -rf MesKit.buildbin-libdir && mkdir MesKit.buildbin-libdir && E:\biocbuild\bbs-3.19-bioc\R\bin\R.exe CMD INSTALL --build --library=MesKit.buildbin-libdir MesKit_1.14.0.tar.gz StartedAt: 2024-10-17 08:06:05 -0400 (Thu, 17 Oct 2024) EndedAt: 2024-10-17 08:06:50 -0400 (Thu, 17 Oct 2024) EllapsedTime: 44.1 seconds RetCode: 0 Status: OK PackageFile: MesKit_1.14.0.zip PackageFileSize: 2.653 MiB