Package: MesKit Version: 1.14.0 Command: chmod a+r MesKit -R && E:\biocbuild\bbs-3.19-bioc\R\bin\R.exe CMD build --keep-empty-dirs --no-resave-data MesKit StartedAt: 2024-10-16 20:09:11 -0400 (Wed, 16 Oct 2024) EndedAt: 2024-10-16 20:11:02 -0400 (Wed, 16 Oct 2024) EllapsedTime: 110.8 seconds RetCode: 0 Status: OK PackageFile: MesKit_1.14.0.tar.gz PackageFileSize: 2.549 MiB