Package: MetCirc Version: 1.34.0 Command: /home/biocbuild/R/R-beta-2024-04-15_r86425/bin/R CMD check --install=check:MetCirc.install-out.txt --library=/home/biocbuild/R/R-beta-2024-04-15_r86425/site-library --no-vignettes --timings MetCirc_1.34.0.tar.gz StartedAt: 2024-05-09 09:13:13 -0000 (Thu, 09 May 2024) EndedAt: 2024-05-09 09:17:31 -0000 (Thu, 09 May 2024) EllapsedTime: 258.4 seconds RetCode: 0 Status: OK CheckDir: MetCirc.Rcheck Warnings: 0