Package: MetCirc Version: 1.34.0 Command: /Library/Frameworks/R.framework/Resources/bin/R CMD check --install=check:MetCirc.install-out.txt --library=/Library/Frameworks/R.framework/Resources/library --no-vignettes --timings MetCirc_1.34.0.tar.gz StartedAt: 2024-10-17 08:12:42 -0400 (Thu, 17 Oct 2024) EndedAt: 2024-10-17 08:21:37 -0400 (Thu, 17 Oct 2024) EllapsedTime: 535.2 seconds RetCode: 0 Status: OK CheckDir: MetCirc.Rcheck Warnings: 0