Package: MetCirc Version: 1.34.0 Command: rm -rf MetCirc.buildbin-libdir && mkdir MetCirc.buildbin-libdir && F:\biocbuild\bbs-3.19-bioc\R\bin\R.exe CMD INSTALL --build --library=MetCirc.buildbin-libdir MetCirc_1.34.0.tar.gz StartedAt: 2024-06-27 08:29:00 -0400 (Thu, 27 Jun 2024) EndedAt: 2024-06-27 08:29:20 -0400 (Thu, 27 Jun 2024) EllapsedTime: 19.9 seconds RetCode: 0 Status: OK PackageFile: MetCirc_1.34.0.zip PackageFileSize: 1.932 MiB