Package: MetCirc Version: 1.34.0 Command: chmod a+r MetCirc -R && F:\biocbuild\bbs-3.19-bioc\R\bin\R.exe CMD build --keep-empty-dirs --no-resave-data MetCirc StartedAt: 2024-06-26 19:56:54 -0400 (Wed, 26 Jun 2024) EndedAt: 2024-06-26 19:59:21 -0400 (Wed, 26 Jun 2024) EllapsedTime: 147.5 seconds RetCode: 0 Status: OK PackageFile: MetCirc_1.34.0.tar.gz PackageFileSize: 2.069 MiB