Package: MetaCyto Version: 1.26.0 Command: rm -rf MetaCyto.buildbin-libdir && mkdir MetaCyto.buildbin-libdir && /Users/biocbuild/BBS/utils/build-universal.sh MetaCyto_1.26.0.tar.gz /Library/Frameworks/R.framework/Resources/bin/R MetaCyto.buildbin-libdir StartedAt: 2024-10-17 16:32:52 -0400 (Thu, 17 Oct 2024) EndedAt: 2024-10-17 16:33:30 -0400 (Thu, 17 Oct 2024) EllapsedTime: 37.6 seconds RetCode: 0 Status: OK PackageFile: MetaCyto_1.26.0.tgz PackageFileSize: 1.1 MiB