Package: MetaCyto Version: 1.26.0 Command: /home/biocbuild/bbs-3.19-bioc/R/bin/R CMD build --keep-empty-dirs --no-resave-data MetaCyto StartedAt: 2024-10-16 19:21:10 -0400 (Wed, 16 Oct 2024) EndedAt: 2024-10-16 19:24:32 -0400 (Wed, 16 Oct 2024) EllapsedTime: 202.4 seconds RetCode: 0 Status: OK PackageFile: MetaCyto_1.26.0.tar.gz PackageFileSize: 972.3 KiB