Package: MetaCyto Version: 1.26.0 Command: rm -rf MetaCyto.buildbin-libdir && mkdir MetaCyto.buildbin-libdir && F:\biocbuild\bbs-3.19-bioc\R\bin\R.exe CMD INSTALL --build --library=MetaCyto.buildbin-libdir MetaCyto_1.26.0.tar.gz StartedAt: 2024-06-27 08:28:37 -0400 (Thu, 27 Jun 2024) EndedAt: 2024-06-27 08:29:00 -0400 (Thu, 27 Jun 2024) EllapsedTime: 23.0 seconds RetCode: 0 Status: OK PackageFile: MetaCyto_1.26.0.zip PackageFileSize: 1.033 MiB